BEGIN:VCALENDAR
VERSION:2.0
PRODID:-//The Comic Bug - ECPv6.15.18//NONSGML v1.0//EN
CALSCALE:GREGORIAN
METHOD:PUBLISH
X-WR-CALNAME:The Comic Bug
X-ORIGINAL-URL:https://www.thecomicbug.com
X-WR-CALDESC:Events for The Comic Bug
REFRESH-INTERVAL;VALUE=DURATION:PT1H
X-Robots-Tag:noindex
X-PUBLISHED-TTL:PT1H
BEGIN:VTIMEZONE
TZID:America/Los_Angeles
BEGIN:DAYLIGHT
TZOFFSETFROM:-0800
TZOFFSETTO:-0700
TZNAME:PDT
DTSTART:20160313T100000
END:DAYLIGHT
BEGIN:STANDARD
TZOFFSETFROM:-0700
TZOFFSETTO:-0800
TZNAME:PST
DTSTART:20161106T090000
END:STANDARD
BEGIN:DAYLIGHT
TZOFFSETFROM:-0800
TZOFFSETTO:-0700
TZNAME:PDT
DTSTART:20170312T100000
END:DAYLIGHT
BEGIN:STANDARD
TZOFFSETFROM:-0700
TZOFFSETTO:-0800
TZNAME:PST
DTSTART:20171105T090000
END:STANDARD
BEGIN:DAYLIGHT
TZOFFSETFROM:-0800
TZOFFSETTO:-0700
TZNAME:PDT
DTSTART:20180311T100000
END:DAYLIGHT
BEGIN:STANDARD
TZOFFSETFROM:-0700
TZOFFSETTO:-0800
TZNAME:PST
DTSTART:20181104T090000
END:STANDARD
END:VTIMEZONE
BEGIN:VEVENT
DTSTART;TZID=America/Los_Angeles:20171121T235700
DTEND;TZID=America/Los_Angeles:20171121T235700
DTSTAMP:20260421T040044
CREATED:20241105T045942Z
LAST-MODIFIED:20241105T055814Z
UID:6921-1511308620-1511308620@www.thecomicbug.com
SUMMARY:Doomsday Clock Almost Midnight Event!
DESCRIPTION:Doomsday Clock #1 may be the biggest comic event of the year and how else can we celebrate than selling at 11:57pm on Tuesday night?!?\nBuy all your new DC Comics at midnight and pick up Doomsday Clock #1! \n \n 
URL:https://www.thecomicbug.com/event/doomsday-clock-almost-midnight-event/
LOCATION:The Comic Bug: Manhattan Beach\, 1807 Manhattan Beach Boulevard\, Manhattan Beach\, CA\, 90266\, United States
END:VEVENT
END:VCALENDAR