BEGIN:VCALENDAR
VERSION:2.0
PRODID:-//The Comic Bug - ECPv6.15.18//NONSGML v1.0//EN
CALSCALE:GREGORIAN
METHOD:PUBLISH
X-WR-CALNAME:The Comic Bug
X-ORIGINAL-URL:https://www.thecomicbug.com
X-WR-CALDESC:Events for The Comic Bug
REFRESH-INTERVAL;VALUE=DURATION:PT1H
X-Robots-Tag:noindex
X-PUBLISHED-TTL:PT1H
BEGIN:VTIMEZONE
TZID:America/Los_Angeles
BEGIN:DAYLIGHT
TZOFFSETFROM:-0800
TZOFFSETTO:-0700
TZNAME:PDT
DTSTART:20140309T100000
END:DAYLIGHT
BEGIN:STANDARD
TZOFFSETFROM:-0700
TZOFFSETTO:-0800
TZNAME:PST
DTSTART:20141102T090000
END:STANDARD
BEGIN:DAYLIGHT
TZOFFSETFROM:-0800
TZOFFSETTO:-0700
TZNAME:PDT
DTSTART:20150308T100000
END:DAYLIGHT
BEGIN:STANDARD
TZOFFSETFROM:-0700
TZOFFSETTO:-0800
TZNAME:PST
DTSTART:20151101T090000
END:STANDARD
BEGIN:DAYLIGHT
TZOFFSETFROM:-0800
TZOFFSETTO:-0700
TZNAME:PDT
DTSTART:20160313T100000
END:DAYLIGHT
BEGIN:STANDARD
TZOFFSETFROM:-0700
TZOFFSETTO:-0800
TZNAME:PST
DTSTART:20161106T090000
END:STANDARD
END:VTIMEZONE
BEGIN:VEVENT
DTSTART;TZID=America/Los_Angeles:20150711T120000
DTEND;TZID=America/Los_Angeles:20150711T120000
DTSTAMP:20260420T224136
CREATED:20241105T045441Z
LAST-MODIFIED:20241105T190924Z
UID:6784-1436616000-1436616000@www.thecomicbug.com
SUMMARY:Magic The Gathering: Origins Pre-Release
DESCRIPTION:Get ready for the next Magic The Gathering core set by signing up for the pre-release! \n\nMagic Origins is just around the corner. It’s truly unlike any core set you’ve seen before: two new mechanics\, more new cards\, and five Planeswalker origin stories to explore. Magic Origins takes a look at the beginnings of five of our most iconic Planeswalkers: Gideon\, Jace\, Liliana\, Chandra\, and Nissa. You’ll see where they come from\, how their sparks ignited\, and what happened in the aftermath. I know we can’t wait for you to experience the whole set\, but let’s start by taking a look at the mechanics–new and old–that await you.
URL:https://www.thecomicbug.com/event/magic-the-gathering-origins-pre-release/
END:VEVENT
END:VCALENDAR